BEGIN:VCALENDAR
VERSION:2.0
PRODID:-//Drop the Drugs Hazleton - ECPv6.15.20//NONSGML v1.0//EN
CALSCALE:GREGORIAN
METHOD:PUBLISH
X-ORIGINAL-URL:https://dropthedrugshazleton.com
X-WR-CALDESC:Events for Drop the Drugs Hazleton
REFRESH-INTERVAL;VALUE=DURATION:PT1H
X-Robots-Tag:noindex
X-PUBLISHED-TTL:PT1H
BEGIN:VTIMEZONE
TZID:America/New_York
BEGIN:DAYLIGHT
TZOFFSETFROM:-0500
TZOFFSETTO:-0400
TZNAME:EDT
DTSTART:20200308T070000
END:DAYLIGHT
BEGIN:STANDARD
TZOFFSETFROM:-0400
TZOFFSETTO:-0500
TZNAME:EST
DTSTART:20201101T060000
END:STANDARD
BEGIN:DAYLIGHT
TZOFFSETFROM:-0500
TZOFFSETTO:-0400
TZNAME:EDT
DTSTART:20210314T070000
END:DAYLIGHT
BEGIN:STANDARD
TZOFFSETFROM:-0400
TZOFFSETTO:-0500
TZNAME:EST
DTSTART:20211107T060000
END:STANDARD
BEGIN:DAYLIGHT
TZOFFSETFROM:-0500
TZOFFSETTO:-0400
TZNAME:EDT
DTSTART:20220313T070000
END:DAYLIGHT
BEGIN:STANDARD
TZOFFSETFROM:-0400
TZOFFSETTO:-0500
TZNAME:EST
DTSTART:20221106T060000
END:STANDARD
END:VTIMEZONE
BEGIN:VEVENT
DTSTART;TZID=America/New_York:20210806T163000
DTEND;TZID=America/New_York:20210806T200000
DTSTAMP:20260423T112108
CREATED:20210623T205625Z
LAST-MODIFIED:20210623T205643Z
UID:10000051-1628267400-1628280000@dropthedrugshazleton.com
SUMMARY:Drug Drop-off Event / First Friday and Car Show
DESCRIPTION:See us at the Downtown Hazleton Car Show and First Friday event! Drop off your excess prescription drugs\, illegal drugs\, or needles (no questions asked). It’s a vital part of helping keep drugs off the streets of Hazleton.
URL:https://dropthedrugshazleton.com/event/drug-drop-off-event-downtown-hazleton-car-show-2021-08-06/
LOCATION:Hayden Tower\, 8 W Broad St\, Hazleton\, PA\, 18201\, United States
CATEGORIES:Van Visits
END:VEVENT
END:VCALENDAR