BEGIN:VCALENDAR
VERSION:2.0
PRODID:-//Drop the Drugs Hazleton - ECPv6.15.20//NONSGML v1.0//EN
CALSCALE:GREGORIAN
METHOD:PUBLISH
X-ORIGINAL-URL:https://dropthedrugshazleton.com
X-WR-CALDESC:Events for Drop the Drugs Hazleton
REFRESH-INTERVAL;VALUE=DURATION:PT1H
X-Robots-Tag:noindex
X-PUBLISHED-TTL:PT1H
BEGIN:VTIMEZONE
TZID:America/New_York
BEGIN:DAYLIGHT
TZOFFSETFROM:-0500
TZOFFSETTO:-0400
TZNAME:EDT
DTSTART:20170312T070000
END:DAYLIGHT
BEGIN:STANDARD
TZOFFSETFROM:-0400
TZOFFSETTO:-0500
TZNAME:EST
DTSTART:20171105T060000
END:STANDARD
BEGIN:DAYLIGHT
TZOFFSETFROM:-0500
TZOFFSETTO:-0400
TZNAME:EDT
DTSTART:20180311T070000
END:DAYLIGHT
BEGIN:STANDARD
TZOFFSETFROM:-0400
TZOFFSETTO:-0500
TZNAME:EST
DTSTART:20181104T060000
END:STANDARD
BEGIN:DAYLIGHT
TZOFFSETFROM:-0500
TZOFFSETTO:-0400
TZNAME:EDT
DTSTART:20190310T070000
END:DAYLIGHT
BEGIN:STANDARD
TZOFFSETFROM:-0400
TZOFFSETTO:-0500
TZNAME:EST
DTSTART:20191103T060000
END:STANDARD
BEGIN:DAYLIGHT
TZOFFSETFROM:-0500
TZOFFSETTO:-0400
TZNAME:EDT
DTSTART:20200308T070000
END:DAYLIGHT
BEGIN:STANDARD
TZOFFSETFROM:-0400
TZOFFSETTO:-0500
TZNAME:EST
DTSTART:20201101T060000
END:STANDARD
END:VTIMEZONE
BEGIN:VEVENT
DTSTART;TZID=America/New_York:20190824T120000
DTEND;TZID=America/New_York:20190824T160000
DTSTAMP:20260421T074921
CREATED:20190626T105050Z
LAST-MODIFIED:20190626T105050Z
UID:10000041-1566648000-1566662400@dropthedrugshazleton.com
SUMMARY:Drug Drop-off Event / Hazleton Rotary - Beer and Wine Festival
DESCRIPTION:Hazleton Rotary 8th Annual Beer and Wine Fest. Drop off your excess prescription drugs\, illegal drugs\, or needles (no questions asked). It’s a vital part of helping keep drugs off the streets of Hazleton.
URL:https://dropthedrugshazleton.com/event/drug-drop-off-event-rotary-2019-08-24/
LOCATION:Hazle Township Babe Ruth Field\, X2G2+9H\, West Hazleton\, PA\, United States
CATEGORIES:Van Visits
END:VEVENT
BEGIN:VEVENT
DTSTART;TZID=America/New_York:20180825T110000
DTEND;TZID=America/New_York:20180825T143000
DTSTAMP:20260421T074921
CREATED:20180824T013242Z
LAST-MODIFIED:20180824T013446Z
UID:10000009-1535194800-1535207400@dropthedrugshazleton.com
SUMMARY:Drug Drop-off Event / Hazleton Rotary - Beer and Wine Festival
DESCRIPTION:Drop off your excess prescription drugs\, illegal drugs\, or needles (no questions asked). It’s a vital part of helping keep drugs off the streets of Hazleton during the Hazleton Beer and Wine festival held by Hazleton Rotary.
URL:https://dropthedrugshazleton.com/event/drug-drop-off-event-rotary-20180825/
LOCATION:Hazle Township Babe Ruth Field\, X2G2+9H\, West Hazleton\, PA\, United States
CATEGORIES:Van Visits
END:VEVENT
END:VCALENDAR