BEGIN:VCALENDAR
VERSION:2.0
PRODID:-//Drop the Drugs Hazleton - ECPv6.15.20//NONSGML v1.0//EN
CALSCALE:GREGORIAN
METHOD:PUBLISH
X-ORIGINAL-URL:https://dropthedrugshazleton.com
X-WR-CALDESC:Events for Drop the Drugs Hazleton
REFRESH-INTERVAL;VALUE=DURATION:PT1H
X-Robots-Tag:noindex
X-PUBLISHED-TTL:PT1H
BEGIN:VTIMEZONE
TZID:America/New_York
BEGIN:DAYLIGHT
TZOFFSETFROM:-0500
TZOFFSETTO:-0400
TZNAME:EDT
DTSTART:20170312T070000
END:DAYLIGHT
BEGIN:STANDARD
TZOFFSETFROM:-0400
TZOFFSETTO:-0500
TZNAME:EST
DTSTART:20171105T060000
END:STANDARD
BEGIN:DAYLIGHT
TZOFFSETFROM:-0500
TZOFFSETTO:-0400
TZNAME:EDT
DTSTART:20180311T070000
END:DAYLIGHT
BEGIN:STANDARD
TZOFFSETFROM:-0400
TZOFFSETTO:-0500
TZNAME:EST
DTSTART:20181104T060000
END:STANDARD
BEGIN:DAYLIGHT
TZOFFSETFROM:-0500
TZOFFSETTO:-0400
TZNAME:EDT
DTSTART:20190310T070000
END:DAYLIGHT
BEGIN:STANDARD
TZOFFSETFROM:-0400
TZOFFSETTO:-0500
TZNAME:EST
DTSTART:20191103T060000
END:STANDARD
BEGIN:DAYLIGHT
TZOFFSETFROM:-0500
TZOFFSETTO:-0400
TZNAME:EDT
DTSTART:20200308T070000
END:DAYLIGHT
BEGIN:STANDARD
TZOFFSETFROM:-0400
TZOFFSETTO:-0500
TZNAME:EST
DTSTART:20201101T060000
END:STANDARD
BEGIN:DAYLIGHT
TZOFFSETFROM:-0500
TZOFFSETTO:-0400
TZNAME:EDT
DTSTART:20210314T070000
END:DAYLIGHT
BEGIN:STANDARD
TZOFFSETFROM:-0400
TZOFFSETTO:-0500
TZNAME:EST
DTSTART:20211107T060000
END:STANDARD
BEGIN:DAYLIGHT
TZOFFSETFROM:-0500
TZOFFSETTO:-0400
TZNAME:EDT
DTSTART:20220313T070000
END:DAYLIGHT
BEGIN:STANDARD
TZOFFSETFROM:-0400
TZOFFSETTO:-0500
TZNAME:EST
DTSTART:20221106T060000
END:STANDARD
END:VTIMEZONE
BEGIN:VEVENT
DTSTART;TZID=America/New_York:20210925T173000
DTEND;TZID=America/New_York:20210925T203000
DTSTAMP:20260421T022520
CREATED:20210827T134619Z
LAST-MODIFIED:20210909T211227Z
UID:10000027-1632591000-1632601800@dropthedrugshazleton.com
SUMMARY:Drug Drop-off Event / Hazleton Lions Club
DESCRIPTION:Annual Night at the Races sponsored by the Hazleton Lions Club. Drop off your excess prescription drugs\, illegal drugs\, or needles (no questions asked). It’s a vital part of helping keep drugs off the streets of Hazleton.
URL:https://dropthedrugshazleton.com/event/drug-drop-off-event-elks-2021/
LOCATION:Hazleton Elks Lodge\, 635 E Broad St\, Hazleton\, PA\, 18201\, United States
CATEGORIES:Van Visits
END:VEVENT
BEGIN:VEVENT
DTSTART;TZID=America/New_York:20190427T173000
DTEND;TZID=America/New_York:20190427T183000
DTSTAMP:20260421T022520
CREATED:20190311T115803Z
LAST-MODIFIED:20190311T115803Z
UID:10000029-1556386200-1556389800@dropthedrugshazleton.com
SUMMARY:Drug Drop-off Event / Hazleton Lions
DESCRIPTION:The Hazleton Lions Club is sponsoring a “Night at the Races\,” which is being held at the Hazleton Elks. The “Drop the Drugs Hazleton” van will be there from 5:30 to 6:30 p.m.
URL:https://dropthedrugshazleton.com/event/drug-drop-off-event-hazleton-lions-2019/
LOCATION:Hazleton Elks Lodge\, 635 E Broad St\, Hazleton\, PA\, 18201\, United States
CATEGORIES:Van Visits
END:VEVENT
BEGIN:VEVENT
DTSTART;TZID=America/New_York:20180421T173000
DTEND;TZID=America/New_York:20180421T190000
DTSTAMP:20260421T022520
CREATED:20180324T145141Z
LAST-MODIFIED:20180324T145141Z
UID:10000031-1524331800-1524337200@dropthedrugshazleton.com
SUMMARY:Drug Drop-off Event / Hazleton Lions
DESCRIPTION:The Hazleton Lions Club is sponsoring a “Night at the Races\,” which is being held at the Hazleton Elks. The “Drop the Drugs Hazleton” van will be there from 5:30 to 7:00 p.m.
URL:https://dropthedrugshazleton.com/event/drug-drop-off-event-hazleton-lions/
LOCATION:Hazleton Elks Lodge\, 635 E Broad St\, Hazleton\, PA\, 18201\, United States
CATEGORIES:Van Visits
END:VEVENT
BEGIN:VEVENT
DTSTART;TZID=America/New_York:20180318T100000
DTEND;TZID=America/New_York:20180318T120000
DTSTAMP:20260421T022520
CREATED:20180312T145844Z
LAST-MODIFIED:20180312T145844Z
UID:10000032-1521367200-1521374400@dropthedrugshazleton.com
SUMMARY:Drug Drop-off Event / Hazleton Elks Lodge
DESCRIPTION:Sponsored by the Hazleton Elks Lodge.
URL:https://dropthedrugshazleton.com/event/drug-drop-off-event-hazleton-elks-lodge/
LOCATION:Hazleton Elks Lodge\, 635 E Broad St\, Hazleton\, PA\, 18201\, United States
CATEGORIES:Van Visits
END:VEVENT
END:VCALENDAR