BEGIN:VCALENDAR
VERSION:2.0
PRODID:-//Drop the Drugs Hazleton - ECPv6.15.20//NONSGML v1.0//EN
CALSCALE:GREGORIAN
METHOD:PUBLISH
X-ORIGINAL-URL:https://dropthedrugshazleton.com
X-WR-CALDESC:Events for Drop the Drugs Hazleton
REFRESH-INTERVAL;VALUE=DURATION:PT1H
X-Robots-Tag:noindex
X-PUBLISHED-TTL:PT1H
BEGIN:VTIMEZONE
TZID:America/New_York
BEGIN:DAYLIGHT
TZOFFSETFROM:-0500
TZOFFSETTO:-0400
TZNAME:EDT
DTSTART:20170312T070000
END:DAYLIGHT
BEGIN:STANDARD
TZOFFSETFROM:-0400
TZOFFSETTO:-0500
TZNAME:EST
DTSTART:20171105T060000
END:STANDARD
BEGIN:DAYLIGHT
TZOFFSETFROM:-0500
TZOFFSETTO:-0400
TZNAME:EDT
DTSTART:20180311T070000
END:DAYLIGHT
BEGIN:STANDARD
TZOFFSETFROM:-0400
TZOFFSETTO:-0500
TZNAME:EST
DTSTART:20181104T060000
END:STANDARD
BEGIN:DAYLIGHT
TZOFFSETFROM:-0500
TZOFFSETTO:-0400
TZNAME:EDT
DTSTART:20190310T070000
END:DAYLIGHT
BEGIN:STANDARD
TZOFFSETFROM:-0400
TZOFFSETTO:-0500
TZNAME:EST
DTSTART:20191103T060000
END:STANDARD
END:VTIMEZONE
BEGIN:VEVENT
DTSTART;TZID=America/New_York:20180318T130000
DTEND;TZID=America/New_York:20180318T140000
DTSTAMP:20260421T122632
CREATED:20180301T135848Z
LAST-MODIFIED:20180312T145025Z
UID:10000016-1521378000-1521381600@dropthedrugshazleton.com
SUMMARY:Drug Drop-off Event / Hazleton UNICO
DESCRIPTION:Hazleton UNICO (Angelo Porreca\, Chapter President) together with the City of Hazleton and the Hazleton Fire Department.\nAt the Easter Egg Hunt at Memorial Park in Hazleton.\nRain location: Hazleton Integration Project Center (the former MPB School).
URL:https://dropthedrugshazleton.com/event/van-appearance-hazleton-unico/
LOCATION:Hazleton Memorial Park\, 200-298 W Diamond Ave\, Hazleton\, PA\, 18201\, United States
CATEGORIES:Van Visits
END:VEVENT
END:VCALENDAR