BEGIN:VCALENDAR
VERSION:2.0
PRODID:-//Drop the Drugs Hazleton - ECPv6.15.20//NONSGML v1.0//EN
CALSCALE:GREGORIAN
METHOD:PUBLISH
X-WR-CALNAME:Drop the Drugs Hazleton
X-ORIGINAL-URL:https://dropthedrugshazleton.com
X-WR-CALDESC:Events for Drop the Drugs Hazleton
REFRESH-INTERVAL;VALUE=DURATION:PT1H
X-Robots-Tag:noindex
X-PUBLISHED-TTL:PT1H
BEGIN:VTIMEZONE
TZID:America/New_York
BEGIN:DAYLIGHT
TZOFFSETFROM:-0500
TZOFFSETTO:-0400
TZNAME:EDT
DTSTART:20170312T070000
END:DAYLIGHT
BEGIN:STANDARD
TZOFFSETFROM:-0400
TZOFFSETTO:-0500
TZNAME:EST
DTSTART:20171105T060000
END:STANDARD
BEGIN:DAYLIGHT
TZOFFSETFROM:-0500
TZOFFSETTO:-0400
TZNAME:EDT
DTSTART:20180311T070000
END:DAYLIGHT
BEGIN:STANDARD
TZOFFSETFROM:-0400
TZOFFSETTO:-0500
TZNAME:EST
DTSTART:20181104T060000
END:STANDARD
BEGIN:DAYLIGHT
TZOFFSETFROM:-0500
TZOFFSETTO:-0400
TZNAME:EDT
DTSTART:20190310T070000
END:DAYLIGHT
BEGIN:STANDARD
TZOFFSETFROM:-0400
TZOFFSETTO:-0500
TZNAME:EST
DTSTART:20191103T060000
END:STANDARD
BEGIN:DAYLIGHT
TZOFFSETFROM:-0500
TZOFFSETTO:-0400
TZNAME:EDT
DTSTART:20200308T070000
END:DAYLIGHT
BEGIN:STANDARD
TZOFFSETFROM:-0400
TZOFFSETTO:-0500
TZNAME:EST
DTSTART:20201101T060000
END:STANDARD
BEGIN:DAYLIGHT
TZOFFSETFROM:-0500
TZOFFSETTO:-0400
TZNAME:EDT
DTSTART:20210314T070000
END:DAYLIGHT
BEGIN:STANDARD
TZOFFSETFROM:-0400
TZOFFSETTO:-0500
TZNAME:EST
DTSTART:20211107T060000
END:STANDARD
BEGIN:DAYLIGHT
TZOFFSETFROM:-0500
TZOFFSETTO:-0400
TZNAME:EDT
DTSTART:20220313T070000
END:DAYLIGHT
BEGIN:STANDARD
TZOFFSETFROM:-0400
TZOFFSETTO:-0500
TZNAME:EST
DTSTART:20221106T060000
END:STANDARD
BEGIN:DAYLIGHT
TZOFFSETFROM:-0500
TZOFFSETTO:-0400
TZNAME:EDT
DTSTART:20230312T070000
END:DAYLIGHT
BEGIN:STANDARD
TZOFFSETFROM:-0400
TZOFFSETTO:-0500
TZNAME:EST
DTSTART:20231105T060000
END:STANDARD
BEGIN:DAYLIGHT
TZOFFSETFROM:-0500
TZOFFSETTO:-0400
TZNAME:EDT
DTSTART:20240310T070000
END:DAYLIGHT
BEGIN:STANDARD
TZOFFSETFROM:-0400
TZOFFSETTO:-0500
TZNAME:EST
DTSTART:20241103T060000
END:STANDARD
BEGIN:DAYLIGHT
TZOFFSETFROM:-0500
TZOFFSETTO:-0400
TZNAME:EDT
DTSTART:20250309T070000
END:DAYLIGHT
BEGIN:STANDARD
TZOFFSETFROM:-0400
TZOFFSETTO:-0500
TZNAME:EST
DTSTART:20251102T060000
END:STANDARD
END:VTIMEZONE
BEGIN:VEVENT
DTSTART;TZID=America/New_York:20240426T070000
DTEND;TZID=America/New_York:20240426T100000
DTSTAMP:20260421T004536
CREATED:20240326T162442Z
LAST-MODIFIED:20240326T162442Z
UID:10000075-1714114800-1714125600@dropthedrugshazleton.com
SUMMARY:Drug Drop-off Event / Lehigh Valley Hospital-Hazleton
DESCRIPTION:Come see our drug drop-off van at Lehigh Valley Hospital – Hazleton! Drop off your excess prescription drugs\, illegal drugs\, or needles (no questions asked). It’s a vital part of helping keep drugs off the streets of Hazleton.
URL:https://dropthedrugshazleton.com/event/drug-drop-off-event-lehigh-valley-hospital-hazleton-20240426/
LOCATION:Lehigh Valley Hospital Hazleton\, 700 E Broad St\, Hazleton\, PA\, 18201\, United States
CATEGORIES:Van Visits
END:VEVENT
BEGIN:VEVENT
DTSTART;TZID=America/New_York:20230421T070000
DTEND;TZID=America/New_York:20230421T100000
DTSTAMP:20260421T004536
CREATED:20230329T173642Z
LAST-MODIFIED:20230329T173642Z
UID:10000058-1682060400-1682071200@dropthedrugshazleton.com
SUMMARY:Drug Drop-off Event / Lehigh Valley Hospital-Hazleton
DESCRIPTION:Come see our drug drop-off van at Lehigh Valley Hospital – Hazleton! Drop off your excess prescription drugs\, illegal drugs\, or needles (no questions asked). It’s a vital part of helping keep drugs off the streets of Hazleton.
URL:https://dropthedrugshazleton.com/event/drug-drop-off-event-lvhh-april-21-2023/
LOCATION:Lehigh Valley Hospital Hazleton\, 700 E Broad St\, Hazleton\, PA\, 18201\, United States
CATEGORIES:Van Visits
END:VEVENT
BEGIN:VEVENT
DTSTART;TZID=America/New_York:20220504T100000
DTEND;TZID=America/New_York:20220504T130000
DTSTAMP:20260421T004536
CREATED:20220427T155710Z
LAST-MODIFIED:20220427T155710Z
UID:10000001-1651658400-1651669200@dropthedrugshazleton.com
SUMMARY:Drug Drop-off Event / Lehigh Valley Hospital-Hazleton
DESCRIPTION:Come see our drug drop-off van at Lehigh Valley Hospital – Hazleton! Drop off your excess prescription drugs\, illegal drugs\, or needles (no questions asked). It’s a vital part of helping keep drugs off the streets of Hazleton.
URL:https://dropthedrugshazleton.com/event/drug-drop-off-event-lvhn-20220504/
LOCATION:Lehigh Valley Hospital Hazleton\, 700 E Broad St\, Hazleton\, PA\, 18201\, United States
CATEGORIES:Van Visits
END:VEVENT
BEGIN:VEVENT
DTSTART;TZID=America/New_York:20210817T070000
DTEND;TZID=America/New_York:20210817T090000
DTSTAMP:20260421T004536
CREATED:20210722T124535Z
LAST-MODIFIED:20210722T124655Z
UID:10000054-1629183600-1629190800@dropthedrugshazleton.com
SUMMARY:Drug Drop-off Event / Lehigh Valley Hospital-Hazleton
DESCRIPTION:Come see our drug drop-off van at Lehigh Valley Hospital – Hazleton! Drop off your excess prescription drugs\, illegal drugs\, or needles (no questions asked). It’s a vital part of helping keep drugs off the streets of Hazleton.
URL:https://dropthedrugshazleton.com/event/drug-drop-off-event-lvhn-hazleton-aug-17-2021/
LOCATION:Lehigh Valley Hospital Hazleton\, 700 E Broad St\, Hazleton\, PA\, 18201\, United States
CATEGORIES:Van Visits
END:VEVENT
BEGIN:VEVENT
DTSTART;TZID=America/New_York:20191025T070000
DTEND;TZID=America/New_York:20191025T090000
DTSTAMP:20260421T004536
CREATED:20191015T221631Z
LAST-MODIFIED:20191015T221721Z
UID:10000046-1571986800-1571994000@dropthedrugshazleton.com
SUMMARY:Drug Drop-off Event / Lehigh Valley Hospital-Hazleton
DESCRIPTION:National Take Back Drug Day! Drop off van will be at Lehigh Valley Hospital\, in front of Business and Education Center.\n.
URL:https://dropthedrugshazleton.com/event/drug-drop-off-event-lvhh-20191025/
LOCATION:Lehigh Valley Hospital Hazleton\, 700 E Broad St\, Hazleton\, PA\, 18201\, United States
CATEGORIES:Van Visits
END:VEVENT
BEGIN:VEVENT
DTSTART;TZID=America/New_York:20180427T110000
DTEND;TZID=America/New_York:20180427T130000
DTSTAMP:20260421T004536
CREATED:20180309T163711Z
LAST-MODIFIED:20180309T164125Z
UID:10000033-1524826800-1524834000@dropthedrugshazleton.com
SUMMARY:Drug Drop-off Event / Lehigh Valley Hospital-Hazleton
DESCRIPTION:Lehigh Valley Hospital – Hazleton
URL:https://dropthedrugshazleton.com/event/drug-drop-off-lvh-hazleton/
LOCATION:Lehigh Valley Hospital Hazleton\, 700 E Broad St\, Hazleton\, PA\, 18201\, United States
CATEGORIES:Van Visits
END:VEVENT
END:VCALENDAR