BEGIN:VCALENDAR
VERSION:2.0
PRODID:-//Drop the Drugs Hazleton - ECPv6.15.20//NONSGML v1.0//EN
CALSCALE:GREGORIAN
METHOD:PUBLISH
X-WR-CALNAME:Drop the Drugs Hazleton
X-ORIGINAL-URL:https://dropthedrugshazleton.com
X-WR-CALDESC:Events for Drop the Drugs Hazleton
REFRESH-INTERVAL;VALUE=DURATION:PT1H
X-Robots-Tag:noindex
X-PUBLISHED-TTL:PT1H
BEGIN:VTIMEZONE
TZID:America/New_York
BEGIN:DAYLIGHT
TZOFFSETFROM:-0500
TZOFFSETTO:-0400
TZNAME:EDT
DTSTART:20200308T070000
END:DAYLIGHT
BEGIN:STANDARD
TZOFFSETFROM:-0400
TZOFFSETTO:-0500
TZNAME:EST
DTSTART:20201101T060000
END:STANDARD
BEGIN:DAYLIGHT
TZOFFSETFROM:-0500
TZOFFSETTO:-0400
TZNAME:EDT
DTSTART:20210314T070000
END:DAYLIGHT
BEGIN:STANDARD
TZOFFSETFROM:-0400
TZOFFSETTO:-0500
TZNAME:EST
DTSTART:20211107T060000
END:STANDARD
BEGIN:DAYLIGHT
TZOFFSETFROM:-0500
TZOFFSETTO:-0400
TZNAME:EDT
DTSTART:20220313T070000
END:DAYLIGHT
BEGIN:STANDARD
TZOFFSETFROM:-0400
TZOFFSETTO:-0500
TZNAME:EST
DTSTART:20221106T060000
END:STANDARD
END:VTIMEZONE
BEGIN:VEVENT
DTSTART;TZID=America/New_York:20210904T150000
DTEND;TZID=America/New_York:20210904T180000
DTSTAMP:20260421T045935
CREATED:20210722T130413Z
LAST-MODIFIED:20210824T202919Z
UID:10000055-1630767600-1630778400@dropthedrugshazleton.com
SUMMARY:Drug Drop-off Event / Annual Nuremberg Celebration
DESCRIPTION:Come see us at the Annual Nuremberg Celebration! Drop off your excess prescription drugs\, illegal drugs\, or needles (no questions asked). It’s a vital part of helping keep drugs off the streets of Hazleton.
URL:https://dropthedrugshazleton.com/event/drug-drop-off-event-nuremberg-celebration-2021/
LOCATION:North Union Township Park\, 283 Mahanoy Street\, Nuremberg\, PA\, 18241\, United States
CATEGORIES:Van Visits
END:VEVENT
END:VCALENDAR