BEGIN:VCALENDAR
VERSION:2.0
PRODID:-//Drop the Drugs Hazleton - ECPv6.15.20//NONSGML v1.0//EN
CALSCALE:GREGORIAN
METHOD:PUBLISH
X-WR-CALNAME:Drop the Drugs Hazleton
X-ORIGINAL-URL:https://dropthedrugshazleton.com
X-WR-CALDESC:Events for Drop the Drugs Hazleton
REFRESH-INTERVAL;VALUE=DURATION:PT1H
X-Robots-Tag:noindex
X-PUBLISHED-TTL:PT1H
BEGIN:VTIMEZONE
TZID:America/New_York
BEGIN:DAYLIGHT
TZOFFSETFROM:-0500
TZOFFSETTO:-0400
TZNAME:EDT
DTSTART:20170312T070000
END:DAYLIGHT
BEGIN:STANDARD
TZOFFSETFROM:-0400
TZOFFSETTO:-0500
TZNAME:EST
DTSTART:20171105T060000
END:STANDARD
BEGIN:DAYLIGHT
TZOFFSETFROM:-0500
TZOFFSETTO:-0400
TZNAME:EDT
DTSTART:20180311T070000
END:DAYLIGHT
BEGIN:STANDARD
TZOFFSETFROM:-0400
TZOFFSETTO:-0500
TZNAME:EST
DTSTART:20181104T060000
END:STANDARD
BEGIN:DAYLIGHT
TZOFFSETFROM:-0500
TZOFFSETTO:-0400
TZNAME:EDT
DTSTART:20190310T070000
END:DAYLIGHT
BEGIN:STANDARD
TZOFFSETFROM:-0400
TZOFFSETTO:-0500
TZNAME:EST
DTSTART:20191103T060000
END:STANDARD
END:VTIMEZONE
BEGIN:VEVENT
DTSTART;TZID=America/New_York:20180617T073000
DTEND;TZID=America/New_York:20180617T120000
DTSTAMP:20260421T161605
CREATED:20180605T151910Z
LAST-MODIFIED:20180605T151910Z
UID:10000024-1529220600-1529236800@dropthedrugshazleton.com
SUMMARY:Drug Drop-off Event / St John Bosco Church
DESCRIPTION:Drop off your excess prescription drugs or illegal drugs (no questions asked) at this community event. It’s a vital part of helping keep drugs off the streets of Hazleton.
URL:https://dropthedrugshazleton.com/event/drug-drop-off-event-st-john-bosco/
LOCATION:St John Bosco Church\, 573 State Route 93\, Conyngham\, PA\, 18219\, United States
CATEGORIES:Van Visits
END:VEVENT
END:VCALENDAR